BEGIN:VCALENDAR
VERSION:2.0
PRODID:-//SATTVA - Centar zdravlja i sreće - ECPv5.14.2.1//NONSGML v1.0//EN
CALSCALE:GREGORIAN
METHOD:PUBLISH
X-WR-CALNAME:SATTVA - Centar zdravlja i sreće
X-ORIGINAL-URL:https://www.sattva-centar.com
X-WR-CALDESC:Događaji za SATTVA - Centar zdravlja i sreće
REFRESH-INTERVAL;VALUE=DURATION:PT1H
X-Robots-Tag:noindex
X-PUBLISHED-TTL:PT1H
BEGIN:VTIMEZONE
TZID:Europe/Zagreb
BEGIN:DAYLIGHT
TZOFFSETFROM:+0100
TZOFFSETTO:+0200
TZNAME:CEST
DTSTART:20230326T010000
END:DAYLIGHT
BEGIN:STANDARD
TZOFFSETFROM:+0200
TZOFFSETTO:+0100
TZNAME:CET
DTSTART:20231029T010000
END:STANDARD
END:VTIMEZONE
BEGIN:VEVENT
DTSTART;TZID=Europe/Zagreb:20230130T180000
DTEND;TZID=Europe/Zagreb:20230201T210000
DTSTAMP:20260422T041254
CREATED:20221223T122752Z
LAST-MODIFIED:20230120T102803Z
UID:3839-1675101600-1675285200@www.sattva-centar.com
SUMMARY:RADIONICA DISANJA I MEDITACIJE - PROGRAM SREĆE S IVANOM PALIJANOM
DESCRIPTION:Art of Living Program sreće je radionica na kojoj\, uz jogu\, vježbe disanja\, meditaciju i praktično znanje\, učimo sudarshan kriyu – središnju i jedinstvenu tehniku Art of Livinga za smanjivanje stresa\, podizanje razine energije i pronalaženje dubljeg uporišta u životu  \n\nRedovitim prakticiranjem sudarshan kriye se trajno rješavamo stresa\nUčimo prepoznati obrasce ponašanja našeg uma i kako se nositi s njima\nKontroliranjem vlastitog daha možemo utjecati na naše misli i emocije\nJednostavne vježbe istezanja opuštaju tijelo\nJogom i tehnikama disanja pripremamo se za meditaciju\nOtkrivamo kako smo nepresušni izvor entuzijazma\, ljubavi\, mira i radosti\n\nSadržaj tečaja\nU tri dana\, u ukupno 9 sati radionice\, imamo priliku naučiti jednostavne joga vježbe\, tehnike disanja\, sudarshan kriyu\, iskusiti meditaciju i ponijeti kući jednostavne mudrosti koje će nam pomoći da osmijeh i razinu energije koju steknemo zadržimo i povećamo na dugo vremena. Cilj je radionice potaknuti nas da osjetimo unutarnji mir\, ljubav i izvor čiste sreće koji smo mi sami. \nU životu svi želimo biti sretni. Zapravo\, sve što radimo\, radimo kako bismo bili sretni\, trčimo za vanjskim poticajima kako bismo je ostvarili. No\, izvor sreće smo mi sami\, a kada to otkrijemo\, ona nas nikada više ne napušta\, bez obzira na situaciju. Kako bismo to otkrili i zadržali potrebno je primijeniti neke tehnike i znanje. \nSudrashan kriyu je svijetu dao Sri Sri Ravi Shankar\, osnivač fondacije Art of Living. Tajna daha leži u tome da njime možemo utjecati na naš um i da se svaki umni obrazac\, poput misli i emocija\, može povezati s dahom. Ovisno o tome kako se osjećamo to utječe na naš dah\, ali možemo djelovati i u suprotnom smjeru. \nArt of Living Program sreće se\, uz ostale Art of Living programe\, podučava u preko 150 zemalja u svijetu. Njegovu dobrobit su osjetili milijuni ljudi na svim kontinentima. \nArt of Living fondacija djeluje od 1981. godine\, utemeljio ju je Sri Sri Ravi Shankar\, indijski duhovni učitelj i mirotvorac koji neumorno putuje svijetom i širi svoju viziju društva bez nasilja i pojedinca bez stresa. \nNa Art of Living Programu sreće imamo priliku naučiti i iskusiti:\n\nJoga asane kroz jednostavne položaje za koje nije potrebno prethodno iskustvo\nPranayame (tehnike disanja) kojima umirujemo naš um\nSudarshan kriyu koja djeluje na fizički\, mentalni i duhovni aspekt našeg bića i vodi nas u duboko i energizirajuće unutarnje iskustvo\nVođene meditacije koje um vode prema unutra i opuštaju nas tjelesno i mentalno\nNiz praktičnih mudrosti koje nam pomažu da sačuvamo mir svoga uma u svakodnevnim situacijama\nNačine kako poboljšati svoju djelotvornost na poslu i odnose s drugim ljudima\nKako upoznati i prihvatiti sebe.\n\nPreduvjeti\nNema ih. Svatko stariji od 18 godina može pristupiti radionici. Postoje neka ograničenja uslijed nekih zdravstvenih stanja oko čega se savjetujemo prije početka radionice. \nŠto nakon toga?\nIskustvo radionice i sudarshan kriye promijenile su nabolje živote milijuna ljudi. Kako bi se dobio njihov maksimum\, potrebno je naučeno na radionici nastaviti prakticirati. Svaki sudionik dobiva niz tehnika\, tzv. kućni program\, koji se sastoji od jednostavnih joga vježbi\, tehnika disanja (pranayama) i sudarshan kriye. Preporuča se nakon radionice nastaviti s Tečajem Sahaj Samadhi meditacije i Art of Living Tečajem tišine kako bi se dobili kompletno Art of Living iskustvo. \nCijena\nRedovna cijena je 126\,09 EUR (950 kn). Cijena s popustom za umirovljenike\, studente i nezaposlene je 92\,91 EUR (700 kn). Cijena za ponavljače je 13\,27 EUR (100 kn)\, a ako dovedu nekoga sa sobom onda je za njih radionica besplatna. \nTermini\, prijave i učitelji\nRadionica traje 3 termina po 3 sata\, ponedjeljkom\, utorkom i srijedom od 18:00 do 21:00 sat. \nPrijaviti se i informirati možete na broj telefona: 042/350-513\, mobitela 091/6000-245 (Ivan) ili na email sattva@sattva-centar.com. \nTečaj vodi Ivan Palijan.
URL:https://www.sattva-centar.com/event/radionica-disanja-i-meditacije-program-srece-s-ivanom-palijanom-3/
LOCATION:SATTVA – Centar zdravlja i sreće\, Varaždinska 20 C\, Beretinec\, Varaždinska županija\, 42201\, Croatia (Local Name: Hrvatska)
CATEGORIES:Art of Living Program sreće
ATTACH;FMTTYPE=image/jpeg:https://www.sattva-centar.com/wp-content/uploads/2019/03/Sahaj-Samadhi.jpg
ORGANIZER;CN="Ivan%20Palijan":MAILTO:sattva@sattva-centar.com
END:VEVENT
BEGIN:VEVENT
DTSTART;TZID=Europe/Zagreb:20230202T183000
DTEND;TZID=Europe/Zagreb:20230202T200000
DTSTAMP:20260422T041254
CREATED:20221223T131330Z
LAST-MODIFIED:20221223T131330Z
UID:3850-1675362600-1675368000@www.sattva-centar.com
SUMMARY:Velika Sudarshan Kriya
DESCRIPTION:Znaš li da redovito prakticiranje ritmova daha prilikom sudarshan kriye dovodi u sklad tijelo\, um i emocije? Znaš li da sudarshan kriya uklanja stres\, umor i negativne emocije poput ljutnje\, frustracije i depresije i ostavlja te mirnim i punim energije\, te usredotočenim i opuštenim? Naravno da znaš… \nDođi u SATTVA – Centar zdravlja i sreće i ovaj četvrtak na redovni zajednički tjedni program s velikom sudarshan kriyom. Očekuju te: \n+ joga asane\n+ 3-stupanjska pranayama\n+ bhastrika\n+ velika sudarshan kriya\n+ vedsko znanje\n+ druženje \n& mnoga sretna i nasmiješena lica! \nCijena:\n+ 16 EUR (120 kn) za 5 dolazaka u 2 mjeseca\n+ 4 EUR (30 kn) za 1 dolazak \nNapomena: Program je otvoren samo onima koji su prošli Art of Living Program sreće.
URL:https://www.sattva-centar.com/event/velika-sudarshan-kriya-170/
LOCATION:SATTVA – Centar zdravlja i sreće\, Varaždinska 20 C\, Beretinec\, Varaždinska županija\, 42201\, Croatia (Local Name: Hrvatska)
CATEGORIES:Velika Sudarshan Kriya
ORGANIZER;CN="Ivan%20Palijan":MAILTO:sattva@sattva-centar.com
END:VEVENT
BEGIN:VEVENT
DTSTART;TZID=Europe/Zagreb:20230206T180000
DTEND;TZID=Europe/Zagreb:20230208T210000
DTSTAMP:20260422T041254
CREATED:20221130T142723Z
LAST-MODIFIED:20221214T120445Z
UID:3822-1675706400-1675890000@www.sattva-centar.com
SUMMARY:TEČAJ AYURVEDSKOG KUHANJA S IVANOM PALIJANOM
DESCRIPTION:Drevno znanje ayurvede\, znanosti o životu\, omogućuje nam da svoje obroke planiramo sukladno našim potrebama\, našoj tjelesnoj konstituciji\, godišnjem dobu\, dobijemo optimalnu količinu nutrijenata i energije\, te oduševimo svih naših pet osjetila! \n\nNaučimo pripremati obroke za naše specifične potrebe i potrebe naših ukućana\nOsjećamo se laganima i punima energije uslijed eliminacije suvišne vrste i količine hrane\nPripremamo hranu na jednostavan način kako bismo zadržali maksimum hranjivih tvari\nUsvojimo principe o pet elemenata i tri doše od kojih je sastavljeno naše tijelo i okolina\nOsnovno znanje o prikladnosti pojedinih namirnica za određene tjelesne konstitucije\nNaučimo razumijevati i osvijestimo procese u svojem tijelu o kojima ovisi naše zdravlje\n\nZnati kuhati znači znati i jesti. Da bismo zadržali zdravlje trebali bismo jesti odgovarajuću vrstu hrane u odgovarajuću količini\, odgovarajućim omjerima i pripremljenu na odgovarajući način. Ayurvedsko kuhanje znači baš to i nije nimalo komplicirano. Ayurveda je drevna vedska znanost o životu i bazira se na proučavanju prirodnih zakona i njihovom poštivanju. \nDa bismo pripremili hranu na ayurvedski način\, odnosno na način koji najviše odgovara našoj tjelesnoj konstituciji\, trebamo usvojiti i razumjeti neke principe. Sve u našem tijelu i našoj okolini je napravljeno od pet elemenata (prostor\, zrak\, vatra\, voda\, zemlja)\, odnosno njihovih kombinacija koje čine tri doše (vata\, pita\, kapha). Naša tjelesna konstitucija je kombinacija tih doša i ovisno o onoj koja je dominantna\, biramo hranu koju ćemo konzumirati. \nIsti elementi\, odnosno doše\, su prisutni\, dakako\, i u hrani\, a naučit ćemo i načine kako pripremiti namirnice kako bismo iz njih izvukli maksimum i učinili ih najprikladnijima za konzumaciju. Pravilo je da ih učinimo što probavljivijima\, da omogućimo tijelu što lakšu eliminaciju suvišnih tvari\, ne remetimo naše doše i učinimo ukusnima za prste polizati! \nTečaj ayurvedskog kuhanja se u Indiji unutar Art of Living fondacije podučava proteklih desetak godina\, a zadnjih godina se podučava i u Europi. Podučavaju ga osposobljeni i motivirani učitelji\, u čijem znanju i ukusnoj hrani već uživa na tisuće ljudi. \nArt of Living fondacija djeluje od 1981. godine\, utemeljio ju je Sri Sri Ravi Shankar\, indijski duhovni učitelj i mirotvorac koji neumorno putuje svijetom i širi svoju viziju društva bez nasilja i pojedinca bez stresa. \nSadržaj tečaja\nNa Tečaju ayurvedskog kuhanja imamo priliku naučiti i kušati: \n\nKako pripremati cjelovit obrok koji uključuje juhu\, glavno jelo\, prilog\, salatu i desert\nVeganske obroke koji potpuno zadovoljavaju sve potrebe našeg organizma\nPraktično znanje i tehnike potrebne za pripremu kvalitetnih obroka\nTeorijsko znanje o ayurvedi\, o njenim principima i tumačenju prirodnih zakona\nZnanje o namirnicama\, njihovim svojstvima i odnosima prema pojedinim došama\nDetox organizma prilikom 3 dana tečaja čija je posljedica osjećaj lakoće i energiziranosti\n\nPreduvjeti\nNema ih. Svatko stariji od 18 godina može pristupiti tečaju. Preporučamo prije tečaja obaviti konzultacije s ayurvedskim liječnikom\, ako još nisu napravljene. Ukoliko postoje neke zdravstvene tegobe ili netolerancija na hranu jelovnik na tečaju se prilagođava prema tome. \nŠto nakon toga?\nTečaj nam omogućava da uvedemo nove zdrave navike u svoju svakodnevicu. Principi koje ovdje naučimo i tehnike kuhanja koje isprobamo\, omogućuju nam da svakom receptu i namirnici pristupimo na pravilan način pa čak i onu hranu koju volimo\, a isprva ne djeluje da je u skladu s ayurvedskim principima i čini se da nam ne odgovara\, možemo pripremiti na zdraviji način. Za holistički pristup zdravlju preporučamo ostale tečajeve Art of Livinga\, Art of Living Program sreće za smanjivanje stresa i Sri Sri Yoga tečaj za fizičku kondiciju. \nCijena i plaćanje\nRedovna cijena je 760 kn. Cijena za ponavljače je 380 kn. Plativo je i do 6 rata kreditnim i bankovnim karticama. \nTermini\, prijave i učitelj\nRadionica se održava u tri termina po tri sata\, ponedjeljkom\, utorkom i srijedom od 18:00 do 21:00 sat. \nPrijaviti se i informirati možete na broj telefona: 042/350-513\, mobitela 091/6000-245 (Ivan) ili na email sattva@sattva-centar.com. \nRadionicu vodi Ivan Palijan\, Art of Living učitelj s dugogodišnjim iskustvom.
URL:https://www.sattva-centar.com/event/tecaj-ayurvedskog-kuhanja-s-ivanom-palijanom-9/
LOCATION:SATTVA – Centar zdravlja i sreće\, Varaždinska 20 C\, Beretinec\, Varaždinska županija\, 42201\, Croatia (Local Name: Hrvatska)
CATEGORIES:Tečaj ayurvedskog kuhanja
ATTACH;FMTTYPE=image/jpeg:https://www.sattva-centar.com/wp-content/uploads/2016/04/tečaj-ayu-kuhanja.jpg
ORGANIZER;CN="Ivan%20Palijan":MAILTO:sattva@sattva-centar.com
END:VEVENT
END:VCALENDAR