BEGIN:VCALENDAR
VERSION:2.0
PRODID:-//SATTVA - Centar zdravlja i sreće - ECPv5.14.2.1//NONSGML v1.0//EN
CALSCALE:GREGORIAN
METHOD:PUBLISH
X-WR-CALNAME:SATTVA - Centar zdravlja i sreće
X-ORIGINAL-URL:https://www.sattva-centar.com
X-WR-CALDESC:Događaji za SATTVA - Centar zdravlja i sreće
REFRESH-INTERVAL;VALUE=DURATION:PT1H
X-Robots-Tag:noindex
X-PUBLISHED-TTL:PT1H
BEGIN:VTIMEZONE
TZID:Europe/Zagreb
BEGIN:DAYLIGHT
TZOFFSETFROM:+0100
TZOFFSETTO:+0200
TZNAME:CEST
DTSTART:20220327T010000
END:DAYLIGHT
BEGIN:STANDARD
TZOFFSETFROM:+0200
TZOFFSETTO:+0100
TZNAME:CET
DTSTART:20221030T010000
END:STANDARD
END:VTIMEZONE
BEGIN:VEVENT
DTSTART;TZID=Europe/Zagreb:20221205T180000
DTEND;TZID=Europe/Zagreb:20221207T210000
DTSTAMP:20260420T071013
CREATED:20221017T104146Z
LAST-MODIFIED:20221020T095419Z
UID:3794-1670263200-1670446800@www.sattva-centar.com
SUMMARY:RADIONICA DISANJA I MEDITACIJE - PROGRAM SREĆE S IVANOM PALIJANOM
DESCRIPTION:Art of Living Program sreće je radionica na kojoj\, uz jogu\, vježbe disanja\, meditaciju i praktično znanje\, učimo sudarshan kriyu – središnju i jedinstvenu tehniku Art of Livinga za smanjivanje stresa\, podizanje razine energije i pronalaženje dubljeg uporišta u životu  \n\nRedovitim prakticiranjem sudarshan kriye se trajno rješavamo stresa\nUčimo prepoznati obrasce ponašanja našeg uma i kako se nositi s njima\nKontroliranjem vlastitog daha možemo utjecati na naše misli i emocije\nJednostavne vježbe istezanja opuštaju tijelo\nJogom i tehnikama disanja pripremamo se za meditaciju\nOtkrivamo kako smo nepresušni izvor entuzijazma\, ljubavi\, mira i radosti\n\nSadržaj tečaja\nU tri dana\, u ukupno 9 sati radionice\, imamo priliku naučiti jednostavne joga vježbe\, tehnike disanja\, sudarshan kriyu\, iskusiti meditaciju i ponijeti kući jednostavne mudrosti koje će nam pomoći da osmijeh i razinu energije koju steknemo zadržimo i povećamo na dugo vremena. Cilj je radionice potaknuti nas da osjetimo unutarnji mir\, ljubav i izvor čiste sreće koji smo mi sami. \nU životu svi želimo biti sretni. Zapravo\, sve što radimo\, radimo kako bismo bili sretni\, trčimo za vanjskim poticajima kako bismo je ostvarili. No\, izvor sreće smo mi sami\, a kada to otkrijemo\, ona nas nikada više ne napušta\, bez obzira na situaciju. Kako bismo to otkrili i zadržali potrebno je primijeniti neke tehnike i znanje. \nSudrashan kriyu je svijetu dao Sri Sri Ravi Shankar\, osnivač fondacije Art of Living. Tajna daha leži u tome da njime možemo utjecati na naš um i da se svaki umni obrazac\, poput misli i emocija\, može povezati s dahom. Ovisno o tome kako se osjećamo to utječe na naš dah\, ali možemo djelovati i u suprotnom smjeru. \nArt of Living Program sreće se\, uz ostale Art of Living programe\, podučava u preko 150 zemalja u svijetu. Njegovu dobrobit su osjetili milijuni ljudi na svim kontinentima. \nArt of Living fondacija djeluje od 1981. godine\, utemeljio ju je Sri Sri Ravi Shankar\, indijski duhovni učitelj i mirotvorac koji neumorno putuje svijetom i širi svoju viziju društva bez nasilja i pojedinca bez stresa. \nNa Art of Living Programu sreće imamo priliku naučiti i iskusiti:\n\nJoga asane kroz jednostavne položaje za koje nije potrebno prethodno iskustvo\nPranayame (tehnike disanja) kojima umirujemo naš um\nSudarshan kriyu koja djeluje na fizički\, mentalni i duhovni aspekt našeg bića i vodi nas u duboko i energizirajuće unutarnje iskustvo\nVođene meditacije koje um vode prema unutra i opuštaju nas tjelesno i mentalno\nNiz praktičnih mudrosti koje nam pomažu da sačuvamo mir svoga uma u svakodnevnim situacijama\nNačine kako poboljšati svoju djelotvornost na poslu i odnose s drugim ljudima\nKako upoznati i prihvatiti sebe.\n\nPreduvjeti\nNema ih. Svatko stariji od 18 godina može pristupiti radionici. Postoje neka ograničenja uslijed nekih zdravstvenih stanja oko čega se savjetujemo prije početka radionice. \nŠto nakon toga?\nIskustvo radionice i sudarshan kriye promijenile su nabolje živote milijuna ljudi. Kako bi se dobio njihov maksimum\, potrebno je naučeno na radionici nastaviti prakticirati. Svaki sudionik dobiva niz tehnika\, tzv. kućni program\, koji se sastoji od jednostavnih joga vježbi\, tehnika disanja (pranayama) i sudarshan kriye. Preporuča se nakon radionice nastaviti s Tečajem Sahaj Samadhi meditacije i Art of Living Tečajem tišine kako bi se dobili kompletno Art of Living iskustvo. \nCijena\nRedovna cijena je 950 kn. Cijena s popustom za umirovljenike\, studente i nezaposlene je 700 kn. Cijena za ponavljače je 100 kn\, a ako dovedu nekoga sa sobom onda je za radionica besplatna. \nTermini\, prijave i učitelji\nRadionica traje 3 termina po 3 sata\, ponedjeljkom\, utorkom i srijedom od 18:00 do 21:00 sat. \nPrijaviti se i informirati možete na broj telefona: 042/350-513\, mobitela 091/6000-245 (Ivan) ili na email sattva@sattva-centar.com. \nTečaj vodi Ivan Palijan.
URL:https://www.sattva-centar.com/event/radionica-disanja-i-meditacije-program-srece-s-ivanom-palijanom-2/
LOCATION:SATTVA – Centar zdravlja i sreće\, Varaždinska 20 C\, Beretinec\, Varaždinska županija\, 42201\, Croatia (Local Name: Hrvatska)
CATEGORIES:Art of Living Program sreće
ATTACH;FMTTYPE=image/jpeg:https://www.sattva-centar.com/wp-content/uploads/2019/03/Art-Of-Living-Program-sreće-tekst.jpg
ORGANIZER;CN="Ivan%20Palijan":MAILTO:sattva@sattva-centar.com
END:VEVENT
END:VCALENDAR